BEGIN:VCALENDAR
VERSION:2.0
PRODID:-//Help mijn dierbare is verslaafd - ECPv6.15.20//NONSGML v1.0//EN
CALSCALE:GREGORIAN
METHOD:PUBLISH
X-ORIGINAL-URL:https://helpmijndierbareisverslaafd.nl
X-WR-CALDESC:Evenementen voor Help mijn dierbare is verslaafd
REFRESH-INTERVAL;VALUE=DURATION:PT1H
X-Robots-Tag:noindex
X-PUBLISHED-TTL:PT1H
BEGIN:VTIMEZONE
TZID:Europe/Helsinki
BEGIN:DAYLIGHT
TZOFFSETFROM:+0200
TZOFFSETTO:+0300
TZNAME:EEST
DTSTART:20250330T010000
END:DAYLIGHT
BEGIN:STANDARD
TZOFFSETFROM:+0300
TZOFFSETTO:+0200
TZNAME:EET
DTSTART:20251026T010000
END:STANDARD
BEGIN:DAYLIGHT
TZOFFSETFROM:+0200
TZOFFSETTO:+0300
TZNAME:EEST
DTSTART:20260329T010000
END:DAYLIGHT
BEGIN:STANDARD
TZOFFSETFROM:+0300
TZOFFSETTO:+0200
TZNAME:EET
DTSTART:20261025T010000
END:STANDARD
BEGIN:DAYLIGHT
TZOFFSETFROM:+0200
TZOFFSETTO:+0300
TZNAME:EEST
DTSTART:20270328T010000
END:DAYLIGHT
BEGIN:STANDARD
TZOFFSETFROM:+0300
TZOFFSETTO:+0200
TZNAME:EET
DTSTART:20271031T010000
END:STANDARD
END:VTIMEZONE
BEGIN:VEVENT
DTSTART;TZID=Europe/Helsinki:20260509T100000
DTEND;TZID=Europe/Helsinki:20260509T123000
DTSTAMP:20260419T170201
CREATED:20251231T233114Z
LAST-MODIFIED:20260329T155401Z
UID:10000027-1778320800-1778329800@helpmijndierbareisverslaafd.nl
SUMMARY:Loslaten... hoe doe je dat?
DESCRIPTION:Als naaste van een verslaafde krijg je vaak te horen dat je de verslaafde moet ‘loslaten’. Maar wat betekent dat eigenlijk? \nWat ga je leren?\nMet deze workshop laten wij je zien dat ‘loslaten’ niet betekent dat je iemand moet laten vallen of aan zijn/ haar lot moet overlaten. Je kunt de ander ook ‘anders vasthouden’\, zodat je jezelf niet verliest in de problemen van een ander. \nLoslaten is een heel persoonlijk proces\, waarin ieder zijn eigen begrip en manier van loslaten ontdekt. Het doel van de workshop is om door voorbeelden en ervaringen een eigen weg hierin te vinden. \nWerkboek\nTijdens de workshop wordt aan de hand van een handig werkboek uitleg gegeven en ga je aan de slag met oefeningen en vragen. Het werkboek wordt bij online deelname per e-mail toegestuurd. Bij fysieke deelname ontvang je het na afloop mee naar huis\, zodat je alles rustig kunt nalezen. \nOm de veiligheid van de bezoekers te waarborgen\, benadrukken wij graag dat deze activiteit uitsluitend voor familieleden en naasten van verslaafden is\, niet voor verslaafden.
URL:https://helpmijndierbareisverslaafd.nl/workshop/loslaten-090526/
LOCATION:Amsterdam\, Ellermanstraat 19\, Amsterdam\, Noord-Holland\, 1114 AK\, Netherlands
CATEGORIES:Loslaten, hoe doe je dat
ATTACH;FMTTYPE=image/jpeg:https://helpmijndierbareisverslaafd.nl/wp-content/uploads/2026/01/lerenloslaten.jpg
GEO:52.3271853;4.9310602
X-APPLE-STRUCTURED-LOCATION;VALUE=URI;X-ADDRESS=Amsterdam Ellermanstraat 19 Amsterdam Noord-Holland 1114 AK Netherlands;X-APPLE-RADIUS=500;X-TITLE=Ellermanstraat 19:geo:4.9310602,52.3271853
END:VEVENT
BEGIN:VEVENT
DTSTART;TZID=Europe/Helsinki:20260530T100000
DTEND;TZID=Europe/Helsinki:20260530T120000
DTSTAMP:20260419T170201
CREATED:20251231T233603Z
LAST-MODIFIED:20260418T051340Z
UID:10000058-1780135200-1780142400@helpmijndierbareisverslaafd.nl
SUMMARY:Informatiebijeenkomst
DESCRIPTION:Heb jij moeite met de verslaving van een ander? Kom dan naar onze informatiebijeenkomst in de ochtend\, middag of online in de avond en maak kennis met ons volledige hulpaanbod.  \nEen dierbare hebben die verslaafd is\, kan veel verdriet\, stress\, machteloosheid en ingrijpende problemen met zich meebrengen. Tijdens onze informatiebijeenkomsten bieden wij de mogelijkheid een begin te maken aan de oplossing. Wij helpen jou jezelf helpen. \nSchrijf je vandaag nog in! \nWat leer je tijdens deze bijeenkomst?\n\nInformatieve lezing van een professionele hulpverlener\nVerhalen van ervaringsdeskundigen\nLotgenotencontact\nJuridisch advies\nWorkshops\n\nPraktische informatie\nOchtendprogramma: 10:00 tot c.a. 12:30 – Inloop vanaf 09:30\nAvondprogramma: 19:00 tot c.a. 21:00 – Inloop vanaf 18:30 \nOm de veiligheid van de bezoekers te waarborgen\, benadrukken wij graag dat deze activiteit uitsluitend voor familieleden en naasten van verslaafden is\, niet voor verslaafden.
URL:https://helpmijndierbareisverslaafd.nl/workshop/informatiebijeenkomst-300526/
LOCATION:Amsterdam\, Ellermanstraat 19\, Amsterdam\, Noord-Holland\, 1114 AK\, Netherlands
CATEGORIES:Informatiebijeenkomst
ATTACH;FMTTYPE=image/jpeg:https://helpmijndierbareisverslaafd.nl/wp-content/uploads/2026/01/informatiebijeenkomst.jpg
GEO:52.3271853;4.9310602
X-APPLE-STRUCTURED-LOCATION;VALUE=URI;X-ADDRESS=Amsterdam Ellermanstraat 19 Amsterdam Noord-Holland 1114 AK Netherlands;X-APPLE-RADIUS=500;X-TITLE=Ellermanstraat 19:geo:4.9310602,52.3271853
END:VEVENT
BEGIN:VEVENT
DTSTART;TZID=Europe/Helsinki:20260606T100000
DTEND;TZID=Europe/Helsinki:20260606T123000
DTSTAMP:20260419T170201
CREATED:20251231T234000Z
LAST-MODIFIED:20260329T155405Z
UID:10000040-1780740000-1780749000@helpmijndierbareisverslaafd.nl
SUMMARY:Inzicht in jouw rol als naaste
DESCRIPTION:De workshop ‘Inzicht in jouw rol als naaste’ is speciaal ontwikkeld voor iedereen die moeite heeft met de verslaving van een dierbare.  \nWat ga je leren?\nDeze workshop geeft je inzicht in hoe jij je verhoudt tot je dierbare verslaafde. Bewustwording van je eigen gedragingen is de eerste stap in het ‘terugkrijgen’ van je eigen leven. \nWerkboek\nTijdens de workshop wordt aan de hand van een handig werkboek uitleg gegeven en ga je aan de slag met oefeningen en vragen. Het werkboek wordt bij online deelname per e-mail toegestuurd. Bij fysieke deelname ontvang je het na afloop mee naar huis\, zodat je alles rustig kunt nalezen. \nOm de veiligheid van de bezoekers te waarborgen\, benadrukken wij graag dat deze activiteit uitsluitend voor familieleden en naasten van verslaafden is\, niet voor verslaafden.
URL:https://helpmijndierbareisverslaafd.nl/workshop/inzicht-060626/
LOCATION:Amsterdam\, Ellermanstraat 19\, Amsterdam\, Noord-Holland\, 1114 AK\, Netherlands
CATEGORIES:Inzicht in jouw rol als naaste
ATTACH;FMTTYPE=image/jpeg:https://helpmijndierbareisverslaafd.nl/wp-content/uploads/2025/12/inzicht.jpg
GEO:52.3271853;4.9310602
X-APPLE-STRUCTURED-LOCATION;VALUE=URI;X-ADDRESS=Amsterdam Ellermanstraat 19 Amsterdam Noord-Holland 1114 AK Netherlands;X-APPLE-RADIUS=500;X-TITLE=Ellermanstraat 19:geo:4.9310602,52.3271853
END:VEVENT
END:VCALENDAR